BEGIN:VCALENDAR
VERSION:2.0
PRODID:-//Monkeys Into Darkness - ECPv6.15.20//NONSGML v1.0//EN
CALSCALE:GREGORIAN
METHOD:PUBLISH
X-WR-CALNAME:Monkeys Into Darkness
X-ORIGINAL-URL:https://monkeysintodarkness.com
X-WR-CALDESC:Events for Monkeys Into Darkness
REFRESH-INTERVAL;VALUE=DURATION:PT1H
X-Robots-Tag:noindex
X-PUBLISHED-TTL:PT1H
BEGIN:VTIMEZONE
TZID:UTC
BEGIN:STANDARD
TZOFFSETFROM:+0000
TZOFFSETTO:+0000
TZNAME:UTC
DTSTART:20240101T000000
END:STANDARD
END:VTIMEZONE
BEGIN:VEVENT
DTSTART;TZID=UTC:20250628T170000
DTEND;TZID=UTC:20250628T230000
DTSTAMP:20260419T211342
CREATED:20250213T145207Z
LAST-MODIFIED:20250213T145207Z
UID:176-1751130000-1751151600@monkeysintodarkness.com
SUMMARY:Grattonbury 2025
DESCRIPTION:
URL:https://monkeysintodarkness.com/gig/grattonbury-2025/
END:VEVENT
END:VCALENDAR